BEGIN:VCALENDAR
VERSION:2.0
PRODID:spatie/icalendar-generator
DESCRIPTION:Events from Imma Music
X-WR-CALDESC:Events from Imma Music
REFRESH-INTERVAL;VALUE=DURATION:PT1440M
X-PUBLISHED-TTL:PT1440M
BEGIN:VTIMEZONE
TZID:Etc/GMT-8
BEGIN:STANDARD
DTSTART:20160506T123000Z
TZOFFSETFROM:+0800
TZOFFSETTO:+0800
END:STANDARD
END:VTIMEZONE
BEGIN:VTIMEZONE
TZID:UTC
BEGIN:STANDARD
DTSTART:20250726T090254Z
TZOFFSETFROM:+0000
TZOFFSETTO:+0000
END:STANDARD
END:VTIMEZONE
BEGIN:VEVENT
UID:85-38
DTSTAMP:20260422T090254Z
SUMMARY:Elizabeth Hayden
LOCATION:Imma Music Studio
ORGANIZER;CN=admin:MAILTO:admin@immamusicstudio.com
DTSTART;TZID=Etc/GMT-8:20170131T123000
DTEND;TZID=Etc/GMT-8:20170131T133000
X-ALT-DESC;FMTTYPE=TEXT/HTML:
CATEGORIES:Lesson
URL;VALUE=URI:http://immamusicstudio.com/mc-events/elizabeth-hayden-4/
METHOD:PUBLISH
END:VEVENT
END:VCALENDAR