BEGIN:VCALENDAR
VERSION:2.0
PRODID:spatie/icalendar-generator
DESCRIPTION:Events from Imma Music
X-WR-CALDESC:Events from Imma Music
REFRESH-INTERVAL;VALUE=DURATION:PT1440M
X-PUBLISHED-TTL:PT1440M
BEGIN:VTIMEZONE
TZID:Etc/GMT-8
BEGIN:STANDARD
DTSTART:20160525T141500Z
TZOFFSETFROM:+0800
TZOFFSETTO:+0800
END:STANDARD
END:VTIMEZONE
BEGIN:VTIMEZONE
TZID:UTC
BEGIN:STANDARD
DTSTART:20250727T102504Z
TZOFFSETFROM:+0000
TZOFFSETTO:+0000
END:STANDARD
END:VTIMEZONE
BEGIN:VEVENT
UID:82-55
DTSTAMP:20260423T102504Z
SUMMARY:Marta's Skating Birthday Party
LOCATION:
ORGANIZER;CN=Leslie Katz:MAILTO:immamusic@sbcglobal.net
DTSTART;TZID=Etc/GMT-8:20170219T141500
DTEND;TZID=Etc/GMT-8:20170219T161500
X-ALT-DESC;FMTTYPE=TEXT/HTML:
CATEGORIES:General
URL;VALUE=URI:http://immamusicstudio.com/mc-events/martas-skating-birthday-
 party/
METHOD:PUBLISH
END:VEVENT
END:VCALENDAR