BEGIN:VCALENDAR
VERSION:2.0
PRODID:spatie/icalendar-generator
DESCRIPTION:Events from Imma Music
X-WR-CALDESC:Events from Imma Music
REFRESH-INTERVAL;VALUE=DURATION:PT1440M
X-PUBLISHED-TTL:PT1440M
BEGIN:VTIMEZONE
TZID:Etc/GMT-8
BEGIN:STANDARD
DTSTART:20160524T113000Z
TZOFFSETFROM:+0800
TZOFFSETTO:+0800
END:STANDARD
END:VTIMEZONE
BEGIN:VTIMEZONE
TZID:UTC
BEGIN:STANDARD
DTSTART:20250726T090254Z
TZOFFSETFROM:+0000
TZOFFSETTO:+0000
END:STANDARD
END:VTIMEZONE
BEGIN:VEVENT
UID:101-71
DTSTAMP:20260422T090254Z
SUMMARY:TWINKLERS
LOCATION:
ORGANIZER;CN=Leslie Katz:MAILTO:immamusic@sbcglobal.net
DTSTART;TZID=Etc/GMT-8:20170218T113000
DTEND;TZID=Etc/GMT-8:20170218T121500
X-ALT-DESC;FMTTYPE=TEXT/HTML:
CATEGORIES:Twinklers
URL;VALUE=URI:http://immamusicstudio.com/mc-events/twinklers-2/
METHOD:PUBLISH
END:VEVENT
END:VCALENDAR